BEGIN:VCALENDAR
VERSION:2.0
PRODID:-//demosphere.net//NONSGML kigkonsult.se iCalcreator 2.22.1//
METHOD:REQUEST
X-WR-TIMEZONE:Europe/Paris
BEGIN:VEVENT
UID:https://toulouse.demosphere.net/rv/34612
DTSTAMP:20260310T130000Z
DESCRIPTION:plus d'infos sur : https://toulouse.demosphere.net/rv/34612
DTSTART:20260310T130000Z
DTEND:20260310T140000Z
GEO:+43.611062;+1.439031
LOCATION:Toulouse 31000\, \nPlace Arnaud Bernard \nToulouse
SUMMARY:Manifestation inter syndicale travailleurs sociaux
URL:https://toulouse.demosphere.net/rv/34612
END:VEVENT
END:VCALENDAR
