BEGIN:VCALENDAR
VERSION:2.0
PRODID:-//demosphere.net//NONSGML kigkonsult.se iCalcreator 2.22.1//
METHOD:REQUEST
X-WR-TIMEZONE:Europe/Paris
BEGIN:VEVENT
UID:https://toulouse.demosphere.net/rv/34752
DTSTAMP:20260410T140000Z
DESCRIPTION:plus d'infos sur : https://toulouse.demosphere.net/rv/34752
DTSTART:20260410T140000Z
DTEND:20260410T150000Z
GEO:+43.620745;+1.452951
LOCATION:Toulouse 31000\, \nL'Impasse \n1 impasse Lapujade
SUMMARY:Moment pute 4 petit atelier en non-mixité TDS
URL:https://toulouse.demosphere.net/rv/34752
END:VEVENT
END:VCALENDAR
