BEGIN:VCALENDAR
VERSION:2.0
PRODID:-//demosphere.net//NONSGML kigkonsult.se iCalcreator 2.22.1//
METHOD:REQUEST
X-WR-TIMEZONE:Europe/Paris
BEGIN:VEVENT
UID:https://toulouse.demosphere.net/rv/34931
DTSTAMP:20260519T153000Z
DESCRIPTION:plus d'infos sur : https://toulouse.demosphere.net/rv/34931
DTSTART:20260519T153000Z
DTEND:20260519T163000Z
GEO:+43.582666;+1.445107
LOCATION:Toulouse 31400\, \nCASC \n10bis rue du Colonel Driant \nToulouse
SUMMARY:Permanence d'entraide et d'information du DAL31
URL:https://toulouse.demosphere.net/rv/34931
END:VEVENT
END:VCALENDAR
