BEGIN:VCALENDAR
VERSION:2.0
PRODID:-//demosphere.net//NONSGML kigkonsult.se iCalcreator 2.22.1//
METHOD:REQUEST
X-WR-TIMEZONE:Europe/Paris
BEGIN:VEVENT
UID:https://toulouse.demosphere.net/rv/34967
DTSTAMP:20260424T181500Z
DESCRIPTION:plus d'infos sur : https://toulouse.demosphere.net/rv/34967
DTSTART:20260424T181500Z
DTEND:20260424T191500Z
GEO:+43.607921;+1.441943
LOCATION:Toulouse 31000\, \nPlace Saint Sernin \n31000 Toulouse
SUMMARY:Balade Nocturne à Vélo Partageons les Chocolats
URL:https://toulouse.demosphere.net/rv/34967
END:VEVENT
END:VCALENDAR
