BEGIN:VCALENDAR
VERSION:2.0
PRODID:-//demosphere.net//NONSGML kigkonsult.se iCalcreator 2.22.1//
METHOD:REQUEST
X-WR-TIMEZONE:Europe/Paris
BEGIN:VEVENT
UID:https://toulouse.demosphere.net/rv/34973
DTSTAMP:20260426T130000Z
DESCRIPTION:plus d'infos sur : https://toulouse.demosphere.net/rv/34973
DTSTART:20260426T130000Z
DTEND:20260426T140000Z
GEO:+43.62272;+1.449635
LOCATION:Toulouse\, \nLe Motor \n44 rue Michel Ange \n31200 Toulouse \nFran
 ce
SUMMARY:TOC? TOC? TOC? C'EST OCCUPÉ ! 
URL:https://toulouse.demosphere.net/rv/34973
END:VEVENT
END:VCALENDAR
