BEGIN:VCALENDAR
VERSION:2.0
PRODID:-//demosphere.net//NONSGML kigkonsult.se iCalcreator 2.22.1//
METHOD:REQUEST
X-WR-TIMEZONE:Europe/Paris
BEGIN:VEVENT
UID:https://toulouse.demosphere.net/rv/34980
DTSTAMP:20260611T170000Z
DESCRIPTION:plus d'infos sur : https://toulouse.demosphere.net/rv/34980
DTSTART:20260611T170000Z
DTEND:20260611T180000Z
LOCATION:Toulouse 31000\, \nHalles de la Transition \n46 rue de Bayard \n31
 000 Toulouse
SUMMARY:Hommes & contraception : une arnaque ?
URL:https://toulouse.demosphere.net/rv/34980
END:VEVENT
END:VCALENDAR
