BEGIN:VCALENDAR
VERSION:2.0
PRODID:-//demosphere.net//NONSGML kigkonsult.se iCalcreator 2.22.1//
METHOD:REQUEST
X-WR-TIMEZONE:Europe/Paris
BEGIN:VEVENT
UID:https://toulouse.demosphere.net/rv/34981
DTSTAMP:20260425T113000Z
DESCRIPTION:plus d'infos sur : https://toulouse.demosphere.net/rv/34981
DTSTART:20260425T113000Z
DTEND:20260425T123000Z
GEO:+43.546245;+1.49205
LOCATION:Ramonville\, \nCollectif la Maison \n73 chemin de mange pommes \n3
 1520 Ramonville
SUMMARY:Le collectif La MIF fait son cirque !!
URL:https://toulouse.demosphere.net/rv/34981
END:VEVENT
END:VCALENDAR
