BEGIN:VCALENDAR
VERSION:2.0
PRODID:-//demosphere.net//NONSGML kigkonsult.se iCalcreator 2.22.1//
METHOD:REQUEST
X-WR-TIMEZONE:Europe/Paris
BEGIN:VEVENT
UID:https://toulouse.demosphere.net/rv/34983
DTSTAMP:20260517T120000Z
DESCRIPTION:plus d'infos sur : https://toulouse.demosphere.net/rv/34983
DTSTART:20260517T120000Z
DTEND:20260517T130000Z
GEO:+43.62272;+1.449635
LOCATION:Toulouse\, \nLe Motor \n44 rue Michel Ange \n31200 Toulouse \nFran
 ce
SUMMARY:Atelier d’écriture et lecture en mixité choisie Personnes racisées 
 -BIPOC
URL:https://toulouse.demosphere.net/rv/34983
END:VEVENT
END:VCALENDAR
