BEGIN:VCALENDAR
VERSION:2.0
PRODID:-//demosphere.net//NONSGML kigkonsult.se iCalcreator 2.22.1//
METHOD:REQUEST
X-WR-TIMEZONE:Europe/Paris
BEGIN:VEVENT
UID:https://toulouse.demosphere.net/rv/34986
DTSTAMP:20260608T170000Z
DESCRIPTION:plus d'infos sur : https://toulouse.demosphere.net/rv/34986
DTSTART:20260608T170000Z
DTEND:20260608T180000Z
GEO:+43.590422;+1.432955
LOCATION:Toulouse 31300\, \nAu Chat Noir \n270 avenue de Muret \n31300 Toul
 ouse
SUMMARY:Permanences de la CNT IS 31 - Juin 2026
URL:https://toulouse.demosphere.net/rv/34986
END:VEVENT
END:VCALENDAR
