BEGIN:VCALENDAR
VERSION:2.0
PRODID:-//demosphere.net//NONSGML kigkonsult.se iCalcreator 2.22.1//
METHOD:REQUEST
X-WR-TIMEZONE:Europe/Paris
BEGIN:VEVENT
UID:https://toulouse.demosphere.net/rv/34989
DTSTAMP:20260425T080000Z
DESCRIPTION:plus d'infos sur : https://toulouse.demosphere.net/rv/34989
DTSTART:20260425T080000Z
DTEND:20260425T090000Z
GEO:+43.610633;+1.455336
LOCATION:Toulouse 31500\, \nMédiathèque José Cabanis \n1 allée Jacques Chab
 an-Delmas \nToulouse
SUMMARY:Permanence d'aide et d'installation à GNU/Linux et aux logiciels li
 bres avec Toulibre
URL:https://toulouse.demosphere.net/rv/34989
END:VEVENT
END:VCALENDAR
