BEGIN:VCALENDAR
VERSION:2.0
PRODID:-//demosphere.net//NONSGML kigkonsult.se iCalcreator 2.22.1//
METHOD:REQUEST
X-WR-TIMEZONE:Europe/Paris
BEGIN:VEVENT
UID:https://toulouse.demosphere.net/rv/34990
DTSTAMP:20260502T120000Z
DESCRIPTION:plus d'infos sur : https://toulouse.demosphere.net/rv/34990
DTSTART:20260502T120000Z
DTEND:20260502T130000Z
GEO:+43.546245;+1.49205
LOCATION:Ramonville\, \nCollectif la Maison \n73 chemin de mange pommes \n3
 1520 Ramonville
SUMMARY:WOBBLE BUBBLE #3
URL:https://toulouse.demosphere.net/rv/34990
END:VEVENT
END:VCALENDAR
