BEGIN:VCALENDAR
VERSION:2.0
PRODID:-//demosphere.net//NONSGML kigkonsult.se iCalcreator 2.22.1//
METHOD:REQUEST
X-WR-TIMEZONE:Europe/Paris
BEGIN:VEVENT
UID:https://toulouse.demosphere.net/rv/34992
DTSTAMP:20260521T163000Z
DESCRIPTION:plus d'infos sur : https://toulouse.demosphere.net/rv/34992
DTSTART:20260521T163000Z
DTEND:20260521T173000Z
GEO:+43.608941;+1.450623
LOCATION:Toulouse 31000\, \nChez Zoubir \nPizzeria culturelle et militante 
 \n2 rue Bertrand de Born (qui fait l''angle avec la place Belfort) \nToulo
 use
SUMMARY:CIP – Acte VI
URL:https://toulouse.demosphere.net/rv/34992
END:VEVENT
END:VCALENDAR
