BEGIN:VCALENDAR
VERSION:2.0
PRODID:-//demosphere.net//NONSGML kigkonsult.se iCalcreator 2.22.1//
METHOD:REQUEST
X-WR-TIMEZONE:Europe/Paris
BEGIN:VEVENT
UID:https://toulouse.demosphere.net/rv/34993
DTSTAMP:20260630T080000Z
DESCRIPTION:plus d'infos sur : https://toulouse.demosphere.net/rv/34993
DTSTART:20260630T080000Z
DTEND:20260630T090000Z
GEO:+43.579397;+1.414606
LOCATION:Toulouse 31400\, \nCentre social associatif Partage Faourette \n13
  rue de l'Ukraine \nMétro Faourette
SUMMARY:Permanence d'entraide et d'information du DAL31
URL:https://toulouse.demosphere.net/rv/34993
END:VEVENT
END:VCALENDAR
