BEGIN:VCALENDAR
VERSION:2.0
PRODID:-//demosphere.net//NONSGML kigkonsult.se iCalcreator 2.22.1//
METHOD:REQUEST
X-WR-TIMEZONE:Europe/Paris
BEGIN:VEVENT
UID:https://toulouse.demosphere.net/rv/34994
DTSTAMP:20260425T090000Z
DESCRIPTION:plus d'infos sur : https://toulouse.demosphere.net/rv/34994
DTSTART:20260425T090000Z
DTEND:20260425T100000Z
GEO:+43.610049;+1.331705
LOCATION:Colomiers\, \nCOLOMIERS rond point de l'Egalité (près du marché)
SUMMARY:Rassemblement pour la paix au Moyen-Orient
URL:https://toulouse.demosphere.net/rv/34994
END:VEVENT
END:VCALENDAR
