BEGIN:VCALENDAR
VERSION:2.0
PRODID:-//demosphere.net//NONSGML kigkonsult.se iCalcreator 2.22.1//
METHOD:REQUEST
X-WR-TIMEZONE:Europe/Paris
BEGIN:VEVENT
UID:https://toulouse.demosphere.net/rv/34995
DTSTAMP:20260512T180000Z
DESCRIPTION:plus d'infos sur : https://toulouse.demosphere.net/rv/34995
DTSTART:20260512T180000Z
DTEND:20260512T190000Z
GEO:+43.585893;+1.447179
LOCATION:Toulouse 31400\, \nBar l'Evasion \n29 Grande Rue Saint-Michel \n31
 400 Toulouse (à 2 mètres du métro Saint Michel)
SUMMARY:Stand up avec le go show !
URL:https://toulouse.demosphere.net/rv/34995
END:VEVENT
END:VCALENDAR
