BEGIN:VCALENDAR
VERSION:2.0
PRODID:-//demosphere.net//NONSGML kigkonsult.se iCalcreator 2.22.1//
METHOD:REQUEST
X-WR-TIMEZONE:Europe/Paris
BEGIN:VEVENT
UID:https://toulouse.demosphere.net/rv/34997
DTSTAMP:20260515T183000Z
DESCRIPTION:plus d'infos sur : https://toulouse.demosphere.net/rv/34997
DTSTART:20260515T183000Z
DTEND:20260515T193000Z
LOCATION:Toulouse\, \nLes Merles Moqueurs\, 8 allée Maurice Sarraut
SUMMARY:Soirée stand up 🎤 avec le go show comedy club
URL:https://toulouse.demosphere.net/rv/34997
END:VEVENT
END:VCALENDAR
