BEGIN:VCALENDAR
VERSION:2.0
PRODID:-//demosphere.net//NONSGML kigkonsult.se iCalcreator 2.22.1//
METHOD:REQUEST
X-WR-TIMEZONE:Europe/Paris
BEGIN:VEVENT
UID:https://toulouse.demosphere.net/rv/35000
DTSTAMP:20260502T150000Z
DESCRIPTION:plus d'infos sur : https://toulouse.demosphere.net/rv/35000
DTSTART:20260502T150000Z
DTEND:20260502T160000Z
GEO:+43.613739;+1.436844
LOCATION:Toulouse 31000\, \nLa Chapelle - \n36 rue Danielle Casanova
SUMMARY:Soirée de solidarité avec Prosfygika à la Chapelle
URL:https://toulouse.demosphere.net/rv/35000
END:VEVENT
END:VCALENDAR
