BEGIN:VCALENDAR
VERSION:2.0
PRODID:-//demosphere.net//NONSGML kigkonsult.se iCalcreator 2.22.1//
METHOD:REQUEST
X-WR-TIMEZONE:Europe/Paris
BEGIN:VEVENT
UID:https://toulouse.demosphere.net/rv/35001
DTSTAMP:20260507T160000Z
DESCRIPTION:plus d'infos sur : https://toulouse.demosphere.net/rv/35001
DTSTART:20260507T160000Z
DTEND:20260507T170000Z
GEO:+43.639858;+1.452422
LOCATION:Toulouse 31200\, \nCinéma Utopia Borderouge \n59 Avenue Maurice Bo
 urges-Maunoury
SUMMARY:Soirée de soutien à l'association MilleMOTS Toulouse
URL:https://toulouse.demosphere.net/rv/35001
END:VEVENT
END:VCALENDAR
