BEGIN:VCALENDAR
VERSION:2.0
PRODID:-//demosphere.net//NONSGML kigkonsult.se iCalcreator 2.22.1//
METHOD:REQUEST
X-WR-TIMEZONE:Europe/Paris
BEGIN:VEVENT
UID:https://toulouse.demosphere.net/rv/35002
DTSTAMP:20260530T123000Z
DESCRIPTION:plus d'infos sur : https://toulouse.demosphere.net/rv/35002
DTSTART:20260530T123000Z
DTEND:20260530T133000Z
LOCATION:Cugnaux\, \nEspace Mosaïque\, place de la Libération 31270 Cugnaux
SUMMARY:Opération 'C'est décidé\, on réduit nos déchets' - Atelier réparati
 on 
URL:https://toulouse.demosphere.net/rv/35002
END:VEVENT
END:VCALENDAR
