BEGIN:VCALENDAR
VERSION:2.0
PRODID:-//demosphere.net//NONSGML kigkonsult.se iCalcreator 2.22.1//
METHOD:REQUEST
X-WR-TIMEZONE:Europe/Paris
BEGIN:VEVENT
UID:https://toulouse.demosphere.net/rv/35003
DTSTAMP:20260606T080000Z
DESCRIPTION:plus d'infos sur : https://toulouse.demosphere.net/rv/35003
DTSTART:20260606T080000Z
DTEND:20260606T090000Z
LOCATION:Bruguières\, \nLa Boîte à Utiles\, 31 rue de la Briqueterie 31150 
 Bruguières
SUMMARY:Opération 'C'est décidé\, on réduit nos déchets !' - Ateliers répar
 ation
URL:https://toulouse.demosphere.net/rv/35003
END:VEVENT
END:VCALENDAR
