BEGIN:VCALENDAR
VERSION:2.0
PRODID:-//demosphere.net//NONSGML kigkonsult.se iCalcreator 2.22.1//
METHOD:REQUEST
X-WR-TIMEZONE:Europe/Paris
BEGIN:VEVENT
UID:https://toulouse.demosphere.net/rv/35004
DTSTAMP:20260613T123000Z
DESCRIPTION:plus d'infos sur : https://toulouse.demosphere.net/rv/35004
DTSTART:20260613T123000Z
DTEND:20260613T133000Z
LOCATION:Montrabé\, \nSalle Polyvalente La Rotonde\, Allée Antoine Candella
  31850 Montrabé
SUMMARY:Opération 'C'est décidé\, on réduit nos déchets !' - Ateliers répar
 ation
URL:https://toulouse.demosphere.net/rv/35004
END:VEVENT
END:VCALENDAR
