BEGIN:VCALENDAR
VERSION:2.0
PRODID:-//demosphere.net//NONSGML kigkonsult.se iCalcreator 2.22.1//
METHOD:REQUEST
X-WR-TIMEZONE:Europe/Paris
BEGIN:VEVENT
UID:https://toulouse.demosphere.net/rv/35005
DTSTAMP:20260620T080000Z
DESCRIPTION:plus d'infos sur : https://toulouse.demosphere.net/rv/35005
DTSTART:20260620T080000Z
DTEND:20260620T090000Z
GEO:+43.573177;+1.419218
LOCATION:Toulouse 31400\, \nM.J.C Jacques Prévert \n292 route de Seysses \n
 31000 Toulouse
SUMMARY:Opération 'C'est décidé\, on réduit nos déchets !' - Ateliers répar
 ation
URL:https://toulouse.demosphere.net/rv/35005
END:VEVENT
END:VCALENDAR
