BEGIN:VCALENDAR
VERSION:2.0
PRODID:-//demosphere.net//NONSGML kigkonsult.se iCalcreator 2.22.1//
METHOD:REQUEST
X-WR-TIMEZONE:Europe/Paris
BEGIN:VEVENT
UID:https://toulouse.demosphere.net/rv/35006
DTSTAMP:20260507T170000Z
DESCRIPTION:plus d'infos sur : https://toulouse.demosphere.net/rv/35006
DTSTART:20260507T170000Z
DTEND:20260507T180000Z
GEO:+43.589546;+1.411798
LOCATION:Toulouse 31100\, \nLe Hangar \n8 rue de Bagnolet \n31100 Toulouse 
 \nmétro Arènes
SUMMARY:Réunion publique : c'est quoi et pourquoi l'antivalidisme ?
URL:https://toulouse.demosphere.net/rv/35006
END:VEVENT
END:VCALENDAR
