BEGIN:VCALENDAR
VERSION:2.0
PRODID:-//demosphere.net//NONSGML kigkonsult.se iCalcreator 2.22.1//
METHOD:REQUEST
X-WR-TIMEZONE:Europe/Paris
BEGIN:VEVENT
UID:https://toulouse.demosphere.net/rv/35007
DTSTAMP:20260501T080000Z
DESCRIPTION:plus d'infos sur : https://toulouse.demosphere.net/rv/35007
DTSTART:20260501T080000Z
DTEND:20260501T090000Z
LOCATION:Toulouse 31000\, \n
SUMMARY:Appel à être à l'avant de la manifestation du 1er mai
URL:https://toulouse.demosphere.net/rv/35007
END:VEVENT
END:VCALENDAR
