BEGIN:VCALENDAR
VERSION:2.0
PRODID:-//demosphere.net//NONSGML kigkonsult.se iCalcreator 2.22.1//
METHOD:REQUEST
X-WR-TIMEZONE:Europe/Paris
BEGIN:VEVENT
UID:https://toulouse.demosphere.net/rv/35008
DTSTAMP:20260510T110000Z
DESCRIPTION:plus d'infos sur : https://toulouse.demosphere.net/rv/35008
DTSTART:20260510T110000Z
DTEND:20260510T120000Z
GEO:+43.576817;+1.459833
LOCATION:Toulouse 31400\, \nCafé associatif l'Astronef \n3 place des avions
  \nRangueil/Saouzelong - Toulouse
SUMMARY:Permanence administrative
URL:https://toulouse.demosphere.net/rv/35008
END:VEVENT
END:VCALENDAR
