BEGIN:VCALENDAR
VERSION:2.0
PRODID:-//demosphere.net//NONSGML kigkonsult.se iCalcreator 2.22.1//
METHOD:REQUEST
X-WR-TIMEZONE:Europe/Paris
BEGIN:VEVENT
UID:https://toulouse.demosphere.net/rv/35013
DTSTAMP:20260506T180000Z
DESCRIPTION:plus d'infos sur : https://toulouse.demosphere.net/rv/35013
DTSTART:20260506T180000Z
DTEND:20260506T190000Z
GEO:+43.620745;+1.452951
LOCATION:Toulouse 31000\, \nL'Impasse \n1 impasse Lapujade
SUMMARY:Antitravail. projection du film 'la mise à mort du travail : destru
 ction'
URL:https://toulouse.demosphere.net/rv/35013
END:VEVENT
END:VCALENDAR
