BEGIN:VCALENDAR
VERSION:2.0
PRODID:-//demosphere.net//NONSGML kigkonsult.se iCalcreator 2.22.1//
METHOD:REQUEST
X-WR-TIMEZONE:Europe/Paris
BEGIN:VEVENT
UID:https://toulouse.demosphere.net/rv/35017
DTSTAMP:20260429T163000Z
DESCRIPTION:plus d'infos sur : https://toulouse.demosphere.net/rv/35017
DTSTART:20260429T163000Z
DTEND:20260429T173000Z
LOCATION:Toulouse 31000\, \n
SUMMARY:Assemblée anticarcérale
URL:https://toulouse.demosphere.net/rv/35017
END:VEVENT
END:VCALENDAR
