BEGIN:VCALENDAR
VERSION:2.0
PRODID:-//demosphere.net//NONSGML kigkonsult.se iCalcreator 2.22.1//
METHOD:REQUEST
X-WR-TIMEZONE:Europe/Paris
BEGIN:VEVENT
UID:https://toulouse.demosphere.net/rv/35018
DTSTAMP:20260530T120000Z
DESCRIPTION:plus d'infos sur : https://toulouse.demosphere.net/rv/35018
DTSTART:20260530T120000Z
DTEND:20260530T130000Z
LOCATION:Colomiers\, \nMaison Citoyenne des Ramassiers (Lucie Aubrac) 1 all
 ée Georges Brassens 31770 Colomiers
SUMMARY:Repair Café Colomiers aux Ramassiers
URL:https://toulouse.demosphere.net/rv/35018
END:VEVENT
END:VCALENDAR
