BEGIN:VCALENDAR
VERSION:2.0
PRODID:-//demosphere.net//NONSGML kigkonsult.se iCalcreator 2.22.1//
METHOD:REQUEST
X-WR-TIMEZONE:Europe/Paris
BEGIN:VEVENT
UID:https://toulouse.demosphere.net/rv/35022
DTSTAMP:20260513T170000Z
DESCRIPTION:plus d'infos sur : https://toulouse.demosphere.net/rv/35022
DTSTART:20260513T170000Z
DTEND:20260513T180000Z
GEO:+43.613739;+1.436844
LOCATION:Toulouse 31000\, \nLa Chapelle - Le Kiosk \n36 rue Danielle Casano
 va
SUMMARY:De quel droit les pouvoirs publics s'en prennent-ils à la Chapelle 
 ?
URL:https://toulouse.demosphere.net/rv/35022
END:VEVENT
END:VCALENDAR
