BEGIN:VCALENDAR
VERSION:2.0
PRODID:-//demosphere.net//NONSGML kigkonsult.se iCalcreator 2.22.1//
METHOD:REQUEST
X-WR-TIMEZONE:Europe/Paris
BEGIN:VEVENT
UID:https://toulouse.demosphere.net/rv/35025
DTSTAMP:20260425T080000Z
DESCRIPTION:plus d'infos sur : https://toulouse.demosphere.net/rv/35025
DTSTART:20260425T080000Z
DTEND:20260425T090000Z
GEO:+43.64473;+1.443866
LOCATION:Toulouse 31200\, \nLa ferme de Borde bio \n79 chemin des Izards
SUMMARY:De ferme en ferme à la ferme de Borde bio
URL:https://toulouse.demosphere.net/rv/35025
END:VEVENT
END:VCALENDAR
